BEGIN:VCALENDAR
VERSION:2.0
PRODID:-//Plone.org//NONSGML plone.app.event//EN
X-WR-TIMEZONE:Brazil/East
BEGIN:VEVENT
SUMMARY:REUNIÃO DA COMISSÃO DOS DIREITOS DO IDOSO.
DTSTART;TZID=Brazil/East;VALUE=DATE-TIME:20190213T140000
DTEND;TZID=Brazil/East;VALUE=DATE-TIME:20190213T170000
DTSTAMP;VALUE=DATE-TIME:20260425T010240Z
UID:0ccf792921eb4528a5297272a9184d3f@www.goiania.go.leg.br
CONTACT:VEREADOR PAULO MAGALHÃES
CREATED;VALUE=DATE-TIME:20190205T125848Z
LAST-MODIFIED;VALUE=DATE-TIME:20190205T125904Z
LOCATION:SALA DE REUNIÃO DAS COMISSÕES
URL:https://www.goiania.go.leg.br/sala-de-imprensa/eventos/reuniao-da-comi
 ssao-dos-direitos-do-idoso-1
END:VEVENT
BEGIN:VTIMEZONE
TZID:Brazil/East
X-LIC-LOCATION:Brazil/East
BEGIN:DAYLIGHT
DTSTART;VALUE=DATE-TIME:20181021T010000
TZNAME:BRST
TZOFFSETFROM:-0300
TZOFFSETTO:-0200
END:DAYLIGHT
END:VTIMEZONE
END:VCALENDAR
