BEGIN:VCALENDAR
VERSION:2.0
PRODID:-//Plone.org//NONSGML plone.app.event//EN
X-WR-TIMEZONE:Brazil/East
BEGIN:VEVENT
SUMMARY:REUNIÃO DA COMISSÃO DO MEIO AMBIENTE.
DTSTART;TZID=Brazil/East;VALUE=DATE-TIME:20250522T080000
DTEND;TZID=Brazil/East;VALUE=DATE-TIME:20250522T090000
DTSTAMP;VALUE=DATE-TIME:20260422T081342Z
UID:d22261dff37a4a5caf0cb91ddc171c24@www.goiania.go.leg.br
CONTACT:VEREADORA KATIA
CREATED;VALUE=DATE-TIME:20250519T142136Z
LAST-MODIFIED;VALUE=DATE-TIME:20250519T142158Z
LOCATION:SALA DE REUNIÃO DAS COMISSÕES
URL:https://www.goiania.go.leg.br/sala-de-imprensa/eventos/reuniao-da-comi
 ssao-do-meio-ambiente-1
END:VEVENT
BEGIN:VTIMEZONE
TZID:Brazil/East
X-LIC-LOCATION:Brazil/East
BEGIN:STANDARD
DTSTART;VALUE=DATE-TIME:20250215T230000
TZNAME:BRT
TZOFFSETFROM:-0200
TZOFFSETTO:-0300
END:STANDARD
END:VTIMEZONE
END:VCALENDAR
