BEGIN:VCALENDAR
VERSION:2.0
PRODID:-//Plone.org//NONSGML plone.app.event//EN
X-WR-TIMEZONE:Brazil/East
BEGIN:VEVENT
SUMMARY:REUNIÃO DA COMISSÃO DE SAÚDE E ASSISTÊNCIA SOCIAL.
DTSTART;TZID=Brazil/East;VALUE=DATE-TIME:20251118T080000
DTEND;TZID=Brazil/East;VALUE=DATE-TIME:20251118T090000
DTSTAMP;VALUE=DATE-TIME:20260420T021144Z
UID:be8f4e107e024dcbb88a27a54f5ebade@www.goiania.go.leg.br
CONTACT:VEREADOR DR. GUSTAVO GOMIDES
CREATED;VALUE=DATE-TIME:20251106T143029Z
LAST-MODIFIED;VALUE=DATE-TIME:20251106T143044Z
LOCATION:SALA DE REUNIÃO DAS COMISSÕES
URL:https://www.goiania.go.leg.br/sala-de-imprensa/eventos/reuniao-da-comi
 ssao-de-saude-e-assistencia-social-18
END:VEVENT
BEGIN:VTIMEZONE
TZID:Brazil/East
X-LIC-LOCATION:Brazil/East
BEGIN:DAYLIGHT
DTSTART;VALUE=DATE-TIME:20251019T010000
TZNAME:BRST
TZOFFSETFROM:-0300
TZOFFSETTO:-0200
END:DAYLIGHT
END:VTIMEZONE
END:VCALENDAR
