BEGIN:VCALENDAR
VERSION:2.0
PRODID:-//Plone.org//NONSGML plone.app.event//EN
X-WR-TIMEZONE:Brazil/East
BEGIN:VEVENT
SUMMARY:REUNIÃO DA COMISSÃO DE SAÚDE E ASSISTÊNCIA SOCIAL.
DTSTART;TZID=Brazil/East;VALUE=DATE-TIME:20250424T080000
DTEND;TZID=Brazil/East;VALUE=DATE-TIME:20250424T090000
DTSTAMP;VALUE=DATE-TIME:20260423T131358Z
UID:3cd2b7a2847b4120a343eecbb35f2715@www.goiania.go.leg.br
CONTACT:VEREADOR DR. GUSTAVO GOMIDES
CREATED;VALUE=DATE-TIME:20250414T200510Z
LAST-MODIFIED;VALUE=DATE-TIME:20250414T200528Z
LOCATION:SALA DE REUNIÃO DAS COMISSÕES
URL:https://www.goiania.go.leg.br/sala-de-imprensa/eventos/reuniao-da-comi
 ssao-de-saude-e-assistencia-social-14
END:VEVENT
BEGIN:VTIMEZONE
TZID:Brazil/East
X-LIC-LOCATION:Brazil/East
BEGIN:STANDARD
DTSTART;VALUE=DATE-TIME:20250215T230000
TZNAME:BRT
TZOFFSETFROM:-0200
TZOFFSETTO:-0300
END:STANDARD
END:VTIMEZONE
END:VCALENDAR
