BEGIN:VCALENDAR
VERSION:2.0
PRODID:-//Plone.org//NONSGML plone.app.event//EN
X-WR-TIMEZONE:Brazil/East
BEGIN:VEVENT
SUMMARY:REUNIÃO DA COMISSÃO DE SAÚDE E ASSISTÊNCIA SOCIAL.
DTSTART;TZID=Brazil/East;VALUE=DATE-TIME:20240604T080000
DTEND;TZID=Brazil/East;VALUE=DATE-TIME:20240604T120000
DTSTAMP;VALUE=DATE-TIME:20260419T104719Z
UID:7777038fca264f05a5e9b99047bf7a40@www.goiania.go.leg.br
CONTACT:VEREADORA KATIA
CREATED;VALUE=DATE-TIME:20240603T133707Z
LAST-MODIFIED;VALUE=DATE-TIME:20240603T133723Z
LOCATION:SALA DE REUNIÃO DAS COMISSÕES
URL:https://www.goiania.go.leg.br/sala-de-imprensa/eventos/reuniao-da-comi
 ssao-de-saude-e-assistencia-social-10
END:VEVENT
BEGIN:VTIMEZONE
TZID:Brazil/East
X-LIC-LOCATION:Brazil/East
BEGIN:STANDARD
DTSTART;VALUE=DATE-TIME:20240217T230000
TZNAME:BRT
TZOFFSETFROM:-0200
TZOFFSETTO:-0300
END:STANDARD
END:VTIMEZONE
END:VCALENDAR
