BEGIN:VCALENDAR
VERSION:2.0
PRODID:-//Plone.org//NONSGML plone.app.event//EN
X-WR-TIMEZONE:Brazil/East
BEGIN:VEVENT
SUMMARY:REUNIÃO DA COMISSÃO DE SAÚDE.
DTSTART;TZID=Brazil/East;VALUE=DATE-TIME:20210118T080000
DTEND;TZID=Brazil/East;VALUE=DATE-TIME:20210118T170000
DTSTAMP;VALUE=DATE-TIME:20260420T053515Z
UID:4ea09577278c4e44a7c69fa74b3c6566@www.goiania.go.leg.br
CONTACT:VEREADOR MAURO RUBEM
CREATED;VALUE=DATE-TIME:20210113T150522Z
LAST-MODIFIED;VALUE=DATE-TIME:20210113T150536Z
LOCATION:SALA DE REUNIÃO DAS COMISSÕES
URL:https://www.goiania.go.leg.br/sala-de-imprensa/eventos/reuniao-da-comi
 ssao-de-saude-1
END:VEVENT
BEGIN:VTIMEZONE
TZID:Brazil/East
X-LIC-LOCATION:Brazil/East
BEGIN:DAYLIGHT
DTSTART;VALUE=DATE-TIME:20201018T010000
TZNAME:BRST
TZOFFSETFROM:-0300
TZOFFSETTO:-0200
END:DAYLIGHT
END:VTIMEZONE
END:VCALENDAR
