BEGIN:VCALENDAR
VERSION:2.0
PRODID:-//Plone.org//NONSGML plone.app.event//EN
X-WR-TIMEZONE:Brazil/East
BEGIN:VEVENT
SUMMARY:REUNIÃO DA COMISSÃO DE REGULAMENTO DA NOVA LEI DE LICITAÇÕES E
  CONTRATOS.
DTSTART;TZID=Brazil/East;VALUE=DATE-TIME:20230331T090000
DTEND;TZID=Brazil/East;VALUE=DATE-TIME:20230331T130000
DTSTAMP;VALUE=DATE-TIME:20260419T104719Z
UID:f4cd11016a54497292d2735d97a27860@www.goiania.go.leg.br
CONTACT:PRESIDÊNCIA
CREATED;VALUE=DATE-TIME:20230329T200457Z
LAST-MODIFIED;VALUE=DATE-TIME:20230329T200508Z
LOCATION:SALA DE REUNIÃO DAS COMISSÕES
URL:https://www.goiania.go.leg.br/sala-de-imprensa/eventos/reuniao-da-comi
 ssao-de-regulamento-da-nova-lei-de-licitacoes-e-contratos
END:VEVENT
BEGIN:VTIMEZONE
TZID:Brazil/East
X-LIC-LOCATION:Brazil/East
BEGIN:STANDARD
DTSTART;VALUE=DATE-TIME:20230225T230000
TZNAME:BRT
TZOFFSETFROM:-0200
TZOFFSETTO:-0300
END:STANDARD
END:VTIMEZONE
END:VCALENDAR
