BEGIN:VCALENDAR
VERSION:2.0
PRODID:-//Plone.org//NONSGML plone.app.event//EN
X-WR-TIMEZONE:Brazil/East
BEGIN:VEVENT
SUMMARY:REUNIÃO DA COMISSÃO DE REGULAMENTAÇÃO DA NOVA LEI DE LICITAÇ
 ÕES E CONTRATOS.
DTSTART;TZID=Brazil/East;VALUE=DATE-TIME:20231030T080000
DTEND;TZID=Brazil/East;VALUE=DATE-TIME:20231030T130000
DTSTAMP;VALUE=DATE-TIME:20260420T225446Z
UID:fa33bae6068f4be8921690470a7ea0e8@www.goiania.go.leg.br
CONTACT:PAULO CÉSAR FORNAZIER
CREATED;VALUE=DATE-TIME:20231026T220134Z
LAST-MODIFIED;VALUE=DATE-TIME:20231026T220151Z
LOCATION:SALA DE REUNIÃO DAS COMISSÕES
URL:https://www.goiania.go.leg.br/sala-de-imprensa/eventos/reuniao-da-comi
 ssao-de-regulamentacao-da-nova-lei-de-licitacoes-e-contratos
END:VEVENT
BEGIN:VTIMEZONE
TZID:Brazil/East
X-LIC-LOCATION:Brazil/East
BEGIN:DAYLIGHT
DTSTART;VALUE=DATE-TIME:20231015T010000
TZNAME:BRST
TZOFFSETFROM:-0300
TZOFFSETTO:-0200
END:DAYLIGHT
END:VTIMEZONE
END:VCALENDAR
