BEGIN:VCALENDAR
VERSION:2.0
PRODID:-//Plone.org//NONSGML plone.app.event//EN
X-WR-TIMEZONE:Brazil/East
BEGIN:VEVENT
SUMMARY:REUNIÃO DA COMISSÃO DE HABITAÇÃO\, URBANISMO E ORDENAMENTO URB
 ANO E COMISSÃO DE OBRAS E PATRIMÔNIO.
DTSTART;TZID=Brazil/East;VALUE=DATE-TIME:20210218T080000
DTEND;TZID=Brazil/East;VALUE=DATE-TIME:20210218T090000
DTSTAMP;VALUE=DATE-TIME:20260425T105421Z
UID:a1a58fd96a634e32857e2588cab32740@www.goiania.go.leg.br
CONTACT:VEREADOR SANTANA GOMES
CREATED;VALUE=DATE-TIME:20210215T130346Z
LAST-MODIFIED;VALUE=DATE-TIME:20210215T130405Z
LOCATION:SALA DE REUNIÃO DAS COMISSÕES
URL:https://www.goiania.go.leg.br/sala-de-imprensa/eventos/reuniao-da-comi
 ssao-de-habitacao-urbanismo-e-ordenamento-urbano-e-comissao-de-obras-e-pat
 rimonio
END:VEVENT
BEGIN:VTIMEZONE
TZID:Brazil/East
X-LIC-LOCATION:Brazil/East
BEGIN:DAYLIGHT
DTSTART;VALUE=DATE-TIME:20201018T010000
TZNAME:BRST
TZOFFSETFROM:-0300
TZOFFSETTO:-0200
END:DAYLIGHT
END:VTIMEZONE
END:VCALENDAR
