BEGIN:VCALENDAR
VERSION:2.0
PRODID:-//Plone.org//NONSGML plone.app.event//EN
X-WR-TIMEZONE:Brazil/East
BEGIN:VEVENT
SUMMARY:REUNIÃO DA COMISSÃO DE HABITAÇÃO\, URBANISMO E ORDENAMENTO URB
 ANO E COMISSÃO DE OBRAS E PATRIMÔNIO.
DTSTART;TZID=Brazil/East;VALUE=DATE-TIME:20210513T080000
DTEND;TZID=Brazil/East;VALUE=DATE-TIME:20210513T090000
DTSTAMP;VALUE=DATE-TIME:20260425T105420Z
UID:c8f5462332724b4cbb981a449950801f@www.goiania.go.leg.br
CONTACT:VEREADOR SANTANA GOMES
CREATED;VALUE=DATE-TIME:20210215T131621Z
LAST-MODIFIED;VALUE=DATE-TIME:20210215T131634Z
LOCATION:SALA DE REUNIÃO DAS COMISSÕES
URL:https://www.goiania.go.leg.br/sala-de-imprensa/eventos/reuniao-da-comi
 ssao-de-habitacao-urbanismo-e-ordenamento-urbano-e-comissao-de-obras-e-pat
 rimonio-12
END:VEVENT
BEGIN:VTIMEZONE
TZID:Brazil/East
X-LIC-LOCATION:Brazil/East
BEGIN:STANDARD
DTSTART;VALUE=DATE-TIME:20210220T230000
TZNAME:BRT
TZOFFSETFROM:-0200
TZOFFSETTO:-0300
END:STANDARD
END:VTIMEZONE
END:VCALENDAR
