BEGIN:VCALENDAR
VERSION:2.0
PRODID:-//Plone.org//NONSGML plone.app.event//EN
X-WR-TIMEZONE:Brazil/East
BEGIN:VEVENT
SUMMARY:REUNIÃO DA COMISSÃO DE FISCALIZAÇÃO DO TRANSPORTE PÚBLICO COL
 ETIVO.
DTSTART;TZID=Brazil/East;VALUE=DATE-TIME:20250605T080000
DTEND;TZID=Brazil/East;VALUE=DATE-TIME:20250605T090000
DTSTAMP;VALUE=DATE-TIME:20260419T094251Z
UID:a40d4bbadd0240ed9ac25a3d6dcbb9e3@www.goiania.go.leg.br
CONTACT:VEREADOR GEVERSON ABEL
CREATED;VALUE=DATE-TIME:20250320T195724Z
LAST-MODIFIED;VALUE=DATE-TIME:20250320T195733Z
LOCATION:SALA DE REUNIÃO DAS COMISSÕES
URL:https://www.goiania.go.leg.br/sala-de-imprensa/eventos/reuniao-da-comi
 ssao-de-fiscalizacao-do-transporte-publico-coletivo-2
END:VEVENT
BEGIN:VTIMEZONE
TZID:Brazil/East
X-LIC-LOCATION:Brazil/East
BEGIN:STANDARD
DTSTART;VALUE=DATE-TIME:20250215T230000
TZNAME:BRT
TZOFFSETFROM:-0200
TZOFFSETTO:-0300
END:STANDARD
END:VTIMEZONE
END:VCALENDAR
