BEGIN:VCALENDAR
VERSION:2.0
PRODID:-//Plone.org//NONSGML plone.app.event//EN
X-WR-TIMEZONE:Brazil/East
BEGIN:VEVENT
SUMMARY:REUNIÃO DA COMISSÃO DE ESTUDOS\, REGULAMENTAÇÃO E IMPLEMENTAÇ
 ÃO DA LEI FEDERAL Nº 13709/2018.
DTSTART;TZID=Brazil/East;VALUE=DATE-TIME:20240306T090000
DTEND;TZID=Brazil/East;VALUE=DATE-TIME:20240306T120000
DTSTAMP;VALUE=DATE-TIME:20260421T013216Z
UID:6b525353a9f24a0eb5b7669cc62f5b75@www.goiania.go.leg.br
CONTACT:MARIANNE SILVA GUIMARÃES
CREATED;VALUE=DATE-TIME:20240306T112352Z
LAST-MODIFIED;VALUE=DATE-TIME:20240306T112410Z
LOCATION:AUDITÓRIO CARLOS EURICO
URL:https://www.goiania.go.leg.br/sala-de-imprensa/eventos/reuniao-da-comi
 ssao-de-estudos-regulamentacao-e-implementacao-da-lei-federal-no-13709-201
 8
END:VEVENT
BEGIN:VTIMEZONE
TZID:Brazil/East
X-LIC-LOCATION:Brazil/East
BEGIN:STANDARD
DTSTART;VALUE=DATE-TIME:20240217T230000
TZNAME:BRT
TZOFFSETFROM:-0200
TZOFFSETTO:-0300
END:STANDARD
END:VTIMEZONE
END:VCALENDAR
