BEGIN:VCALENDAR
VERSION:2.0
PRODID:-//Plone.org//NONSGML plone.app.event//EN
X-WR-TIMEZONE:Brazil/East
BEGIN:VEVENT
SUMMARY:REUNIÃO DA COMISSÃO DE ESTÁGIO PROBATÓRIO.
DTSTART;TZID=Brazil/East;VALUE=DATE-TIME:20211001T100000
DTEND;TZID=Brazil/East;VALUE=DATE-TIME:20211001T120000
DTSTAMP;VALUE=DATE-TIME:20260420T143545Z
UID:0140d328deb540e6ab5b28460a0eae72@www.goiania.go.leg.br
CONTACT:CASSANDRA ARRUDA DE SOUSA ARAÚJO
CREATED;VALUE=DATE-TIME:20210930T193751Z
LAST-MODIFIED;VALUE=DATE-TIME:20210930T193802Z
LOCATION:SALA DE REUNIÃO DA PRESIDÊNCIA
URL:https://www.goiania.go.leg.br/sala-de-imprensa/eventos/reuniao-da-comi
 ssao-de-estagio-probatorio
END:VEVENT
BEGIN:VTIMEZONE
TZID:Brazil/East
X-LIC-LOCATION:Brazil/East
BEGIN:STANDARD
DTSTART;VALUE=DATE-TIME:20210220T230000
TZNAME:BRT
TZOFFSETFROM:-0200
TZOFFSETTO:-0300
END:STANDARD
END:VTIMEZONE
END:VCALENDAR
