BEGIN:VCALENDAR
VERSION:2.0
PRODID:-//Plone.org//NONSGML plone.app.event//EN
X-WR-TIMEZONE:Brazil/East
BEGIN:VEVENT
SUMMARY:REUNIÃO DA COMISSÃO DE DIREITOS DOS IDOSOS.
DTSTART;TZID=Brazil/East;VALUE=DATE-TIME:20240710T083000
DTEND;TZID=Brazil/East;VALUE=DATE-TIME:20240710T093000
DTSTAMP;VALUE=DATE-TIME:20260422T052733Z
UID:c864e418c1d04e0ba79ae7e56c294a26@www.goiania.go.leg.br
CONTACT:VEREADOR PAULO MAGALHÃES
CREATED;VALUE=DATE-TIME:20240708T135851Z
LAST-MODIFIED;VALUE=DATE-TIME:20240708T135902Z
LOCATION:SALA DE REUNIÃO DA PRESIDÊNCIA
URL:https://www.goiania.go.leg.br/sala-de-imprensa/eventos/reuniao-da-comi
 ssao-de-direitos-dos-idosos
END:VEVENT
BEGIN:VTIMEZONE
TZID:Brazil/East
X-LIC-LOCATION:Brazil/East
BEGIN:STANDARD
DTSTART;VALUE=DATE-TIME:20240217T230000
TZNAME:BRT
TZOFFSETFROM:-0200
TZOFFSETTO:-0300
END:STANDARD
END:VTIMEZONE
END:VCALENDAR
