BEGIN:VCALENDAR
VERSION:2.0
PRODID:-//Plone.org//NONSGML plone.app.event//EN
X-WR-TIMEZONE:Brazil/East
BEGIN:VEVENT
SUMMARY:REUNIÃO DA COMISSÃO DE CONSTITUIÇÃO\, JUSTIÇA E REDAÇÃO.
DTSTART;TZID=Brazil/East;VALUE=DATE-TIME:20190516T080000
DTEND;TZID=Brazil/East;VALUE=DATE-TIME:20190516T090000
DTSTAMP;VALUE=DATE-TIME:20260424T111301Z
UID:f1ec1d0d80db4452bc1ecb17af837968@www.goiania.go.leg.br
CONTACT:VEREADOR SABRINA GARCÊZ
CREATED;VALUE=DATE-TIME:20190515T135337Z
LAST-MODIFIED;VALUE=DATE-TIME:20190515T135345Z
LOCATION:SALA DE REUNIÃO DAS COMISSÕES
URL:https://www.goiania.go.leg.br/sala-de-imprensa/eventos/reuniao-da-comi
 ssao-de-constituicao-justica-e-redacao-3
END:VEVENT
BEGIN:VTIMEZONE
TZID:Brazil/East
X-LIC-LOCATION:Brazil/East
BEGIN:STANDARD
DTSTART;VALUE=DATE-TIME:20190216T230000
TZNAME:BRT
TZOFFSETFROM:-0200
TZOFFSETTO:-0300
END:STANDARD
END:VTIMEZONE
END:VCALENDAR
