BEGIN:VCALENDAR
VERSION:2.0
PRODID:-//Plone.org//NONSGML plone.app.event//EN
X-WR-TIMEZONE:Brazil/East
BEGIN:VEVENT
SUMMARY:REUNIÃO DA CEI DO BOLSA FAMÍLIA/SEMAS.
DTSTART;TZID=Brazil/East;VALUE=DATE-TIME:20190418T143000
DTEND;TZID=Brazil/East;VALUE=DATE-TIME:20190418T170000
DTSTAMP;VALUE=DATE-TIME:20260424T152422Z
UID:9d66d5623ced405d8d49cfca37c7e58a@www.goiania.go.leg.br
CONTACT:VEREADOR FELISBERTO TAVARES
CREATED;VALUE=DATE-TIME:20190411T103152Z
LAST-MODIFIED;VALUE=DATE-TIME:20190411T103156Z
LOCATION:SALA DE REUNIÃO DAS COMISSÕES
URL:https://www.goiania.go.leg.br/sala-de-imprensa/eventos/reuniao-da-cei-
 do-bolsa-familia-semas-5
END:VEVENT
BEGIN:VTIMEZONE
TZID:Brazil/East
X-LIC-LOCATION:Brazil/East
BEGIN:STANDARD
DTSTART;VALUE=DATE-TIME:20190216T230000
TZNAME:BRT
TZOFFSETFROM:-0200
TZOFFSETTO:-0300
END:STANDARD
END:VTIMEZONE
END:VCALENDAR
