BEGIN:VCALENDAR
VERSION:2.0
PRODID:-//Plone.org//NONSGML plone.app.event//EN
X-WR-TIMEZONE:Brazil/East
BEGIN:VEVENT
SUMMARY:REUNIÃO DA CEI DAS OBRAS PARADAS.
DTSTART;TZID=Brazil/East;VALUE=DATE-TIME:20180820T093000
DTEND;TZID=Brazil/East;VALUE=DATE-TIME:20180820T120000
DTSTAMP;VALUE=DATE-TIME:20260425T134133Z
UID:9b1a8a3cf3254e3b8ff00ced1a0f16d7@www.goiania.go.leg.br
CONTACT:VEREADOR ALYSSON LIMA
CREATED;VALUE=DATE-TIME:20180522T151410Z
LAST-MODIFIED;VALUE=DATE-TIME:20180522T151417Z
LOCATION:SALA DE REUNIÃO DAS COMISSÕES
URL:https://www.goiania.go.leg.br/sala-de-imprensa/eventos/reuniao-da-cei-
 das-obras-paradas-26
END:VEVENT
BEGIN:VTIMEZONE
TZID:Brazil/East
X-LIC-LOCATION:Brazil/East
BEGIN:STANDARD
DTSTART;VALUE=DATE-TIME:20180217T230000
TZNAME:BRT
TZOFFSETFROM:-0200
TZOFFSETTO:-0300
END:STANDARD
END:VTIMEZONE
END:VCALENDAR
