BEGIN:VCALENDAR
VERSION:2.0
PRODID:-//Plone.org//NONSGML plone.app.event//EN
X-WR-TIMEZONE:Brazil/East
BEGIN:VEVENT
SUMMARY:REUNIÃO DA CÂMARA DELIBERATIVA DO TRANSPORTE COLETIVO.
DTSTART;TZID=Brazil/East;VALUE=DATE-TIME:20190308T140000
DTEND;TZID=Brazil/East;VALUE=DATE-TIME:20190308T180000
DTSTAMP;VALUE=DATE-TIME:20260424T204925Z
UID:11c916757fbd44f09a13023e587ec4c6@www.goiania.go.leg.br
CONTACT:VEREADOR LUCAS KITÃO
CREATED;VALUE=DATE-TIME:20190228T144608Z
LAST-MODIFIED;VALUE=DATE-TIME:20190228T144623Z
LOCATION:SALA DE REUNIÃO DAS COMISSÕES
URL:https://www.goiania.go.leg.br/sala-de-imprensa/eventos/reuniao-da-cama
 ra-deliberativa-do-transporte-coletivo
END:VEVENT
BEGIN:VTIMEZONE
TZID:Brazil/East
X-LIC-LOCATION:Brazil/East
BEGIN:STANDARD
DTSTART;VALUE=DATE-TIME:20190216T230000
TZNAME:BRT
TZOFFSETFROM:-0200
TZOFFSETTO:-0300
END:STANDARD
END:VTIMEZONE
END:VCALENDAR
