BEGIN:VCALENDAR
VERSION:2.0
PRODID:-//Plone.org//NONSGML plone.app.event//EN
X-WR-TIMEZONE:Brazil/East
BEGIN:VEVENT
SUMMARY:REUNIÃO DA AÇÃO DO BEM.
DTSTART;TZID=Brazil/East;VALUE=DATE-TIME:20230629T140000
DTEND;TZID=Brazil/East;VALUE=DATE-TIME:20230629T180000
DTSTAMP;VALUE=DATE-TIME:20260420T115500Z
UID:e03f1c3cd88d41bd9658a974918c69dc@www.goiania.go.leg.br
CONTACT:VEREADOR RONILSON REIS
CREATED;VALUE=DATE-TIME:20230614T201446Z
LAST-MODIFIED;VALUE=DATE-TIME:20230629T154549Z
LOCATION:AUDITÓRIO CARLOS EURICO
URL:https://www.goiania.go.leg.br/sala-de-imprensa/eventos/reuniao-da-acao
 -do-bem
END:VEVENT
BEGIN:VTIMEZONE
TZID:Brazil/East
X-LIC-LOCATION:Brazil/East
BEGIN:STANDARD
DTSTART;VALUE=DATE-TIME:20230225T230000
TZNAME:BRT
TZOFFSETFROM:-0200
TZOFFSETTO:-0300
END:STANDARD
END:VTIMEZONE
END:VCALENDAR
