BEGIN:VCALENDAR
VERSION:2.0
PRODID:-//Plone.org//NONSGML plone.app.event//EN
X-WR-TIMEZONE:Brazil/East
BEGIN:VEVENT
SUMMARY:REUNIÃO COM SERVIDORES DA SECRETÁRIA MUNICIPAL DE EDUCAÇÃO.
DTSTART;TZID=Brazil/East;VALUE=DATE-TIME:20210227T090000
DTEND;TZID=Brazil/East;VALUE=DATE-TIME:20210227T120000
DTSTAMP;VALUE=DATE-TIME:20260423T055102Z
UID:cd721b38af4d432db0a6023d61fb8472@www.goiania.go.leg.br
CONTACT:VEREADOR HENRIQUE ALVES
CREATED;VALUE=DATE-TIME:20210205T125237Z
LAST-MODIFIED;VALUE=DATE-TIME:20210205T125343Z
LOCATION:SALA DE REUNIÃO DAS COMISSÕES
URL:https://www.goiania.go.leg.br/sala-de-imprensa/eventos/reuniao-com-ser
 vidores-da-secretaria-municipal-de-educacao
END:VEVENT
BEGIN:VTIMEZONE
TZID:Brazil/East
X-LIC-LOCATION:Brazil/East
BEGIN:STANDARD
DTSTART;VALUE=DATE-TIME:20210220T230000
TZNAME:BRT
TZOFFSETFROM:-0200
TZOFFSETTO:-0300
END:STANDARD
END:VTIMEZONE
END:VCALENDAR
