BEGIN:VCALENDAR
VERSION:2.0
PRODID:-//Plone.org//NONSGML plone.app.event//EN
X-WR-TIMEZONE:Brazil/East
BEGIN:VEVENT
SUMMARY:REUNIÃO COM SECRETÁRIOS\, EMPRESÁRIOS\, ASSOCIAÇÕES\, FEIRANT
 ES DA FEIRA HIPPIE E REGIÃO DA 44.
DTSTART;TZID=Brazil/East;VALUE=DATE-TIME:20220517T160000
DTEND;TZID=Brazil/East;VALUE=DATE-TIME:20220517T180000
DTSTAMP;VALUE=DATE-TIME:20260422T211749Z
UID:8a2e1d3a0b0f46abbe58bcd43c19e399@www.goiania.go.leg.br
CONTACT:VEREADOR MAURO RUBEM
CREATED;VALUE=DATE-TIME:20220510T123651Z
LAST-MODIFIED;VALUE=DATE-TIME:20220510T123701Z
LOCATION:SALA DE REUNIÃO DAS COMISSÕES
URL:https://www.goiania.go.leg.br/sala-de-imprensa/eventos/reuniao-com-sec
 retarios-empresarios-associacoes-feirantes-da-feira-hippie-e-regiao-da-44
END:VEVENT
BEGIN:VTIMEZONE
TZID:Brazil/East
X-LIC-LOCATION:Brazil/East
BEGIN:STANDARD
DTSTART;VALUE=DATE-TIME:20220219T230000
TZNAME:BRT
TZOFFSETFROM:-0200
TZOFFSETTO:-0300
END:STANDARD
END:VTIMEZONE
END:VCALENDAR
