BEGIN:VCALENDAR
VERSION:2.0
PRODID:-//Plone.org//NONSGML plone.app.event//EN
X-WR-TIMEZONE:Brazil/East
BEGIN:VEVENT
SUMMARY:REUNIÃO COM REPRESENTANTES DE INSTITUIÇÕES DE LONGA PERMANÊNCI
 A PARA IDOSO.
DTSTART;TZID=Brazil/East;VALUE=DATE-TIME:20191016T140000
DTEND;TZID=Brazil/East;VALUE=DATE-TIME:20191016T170000
DTSTAMP;VALUE=DATE-TIME:20260421T224728Z
UID:043cd321099e45aa80ec45f0255bb28d@www.goiania.go.leg.br
CONTACT:VEREADOR PAULO MAGALHÃES
CREATED;VALUE=DATE-TIME:20191008T141201Z
LAST-MODIFIED;VALUE=DATE-TIME:20191008T141242Z
LOCATION:SALA DE REUNIÃO DAS COMISSÕES
URL:https://www.goiania.go.leg.br/sala-de-imprensa/eventos/reuniao-com-rep
 resentantes-de-instituicoes-de-longa-permanencia-para-idoso
END:VEVENT
BEGIN:VTIMEZONE
TZID:Brazil/East
X-LIC-LOCATION:Brazil/East
BEGIN:STANDARD
DTSTART;VALUE=DATE-TIME:20190216T230000
TZNAME:BRT
TZOFFSETFROM:-0200
TZOFFSETTO:-0300
END:STANDARD
END:VTIMEZONE
END:VCALENDAR
