BEGIN:VCALENDAR
VERSION:2.0
PRODID:-//Plone.org//NONSGML plone.app.event//EN
X-WR-TIMEZONE:Brazil/East
BEGIN:VEVENT
SUMMARY:REUNIÃO COM PROGRAMA DE FORMAÇÃO DE LIDERANÇAS.
DTSTART;TZID=Brazil/East;VALUE=DATE-TIME:20221210T140000
DTEND;TZID=Brazil/East;VALUE=DATE-TIME:20221210T170000
DTSTAMP;VALUE=DATE-TIME:20260420T103437Z
UID:dc2acb5f994341079ff874a07a65174d@www.goiania.go.leg.br
CONTACT:VEREADOR LUCAS KITÃO
CREATED;VALUE=DATE-TIME:20221207T143402Z
LAST-MODIFIED;VALUE=DATE-TIME:20221207T143419Z
LOCATION:AUDITÓRIO CARLOS EURICO
URL:https://www.goiania.go.leg.br/sala-de-imprensa/eventos/reuniao-com-pro
 grama-de-formacao-de-liderancas
END:VEVENT
BEGIN:VTIMEZONE
TZID:Brazil/East
X-LIC-LOCATION:Brazil/East
BEGIN:DAYLIGHT
DTSTART;VALUE=DATE-TIME:20221016T010000
TZNAME:BRST
TZOFFSETFROM:-0300
TZOFFSETTO:-0200
END:DAYLIGHT
END:VTIMEZONE
END:VCALENDAR
