BEGIN:VCALENDAR
VERSION:2.0
PRODID:-//Plone.org//NONSGML plone.app.event//EN
X-WR-TIMEZONE:Brazil/East
BEGIN:VEVENT
SUMMARY:REUNIÃO COM PRESIDENTE DA AGETUL 
DTSTART;TZID=Brazil/East;VALUE=DATE-TIME:20190722T100000
DTEND;TZID=Brazil/East;VALUE=DATE-TIME:20190722T130000
DTSTAMP;VALUE=DATE-TIME:20260424T083942Z
UID:f8a7b06ceb8748de9e308a5838be5ea0@www.goiania.go.leg.br
CONTACT:VEREADOR ANSELMO PEREIRA 
CREATED;VALUE=DATE-TIME:20190718T145022Z
LAST-MODIFIED;VALUE=DATE-TIME:20190718T145033Z
LOCATION:SALA DE REUNIÃO DAS COMISSÕES 
URL:https://www.goiania.go.leg.br/sala-de-imprensa/eventos/reuniao-com-pre
 sidente-da-agetul
END:VEVENT
BEGIN:VTIMEZONE
TZID:Brazil/East
X-LIC-LOCATION:Brazil/East
BEGIN:STANDARD
DTSTART;VALUE=DATE-TIME:20190216T230000
TZNAME:BRT
TZOFFSETFROM:-0200
TZOFFSETTO:-0300
END:STANDARD
END:VTIMEZONE
END:VCALENDAR
