BEGIN:VCALENDAR
VERSION:2.0
PRODID:-//Plone.org//NONSGML plone.app.event//EN
X-WR-TIMEZONE:Brazil/East
BEGIN:VEVENT
SUMMARY:REUNIÃO COM OS TÉCNICOS DA SEPLAM E OS VEREADORES DA CASA ONDE D
 ISCUTIREMOS O PLANO DIRETOR.
DTSTART;TZID=Brazil/East;VALUE=DATE-TIME:20190924T080000
DTEND;TZID=Brazil/East;VALUE=DATE-TIME:20190924T120000
DTSTAMP;VALUE=DATE-TIME:20260422T003019Z
UID:b2baf7fc7343488f939b71e1c00d1f4d@www.goiania.go.leg.br
CONTACT:VEREADORA SABRINA GARCÊZ
CREATED;VALUE=DATE-TIME:20190920T142738Z
LAST-MODIFIED;VALUE=DATE-TIME:20190920T142822Z
LOCATION:SALA DE REUNIÃO DA PRESIDÊNCIA
URL:https://www.goiania.go.leg.br/sala-de-imprensa/eventos/reuniao-com-os-
 tecnicos-da-seplam-e-os-vereadores-da-casa-onde-discutiremos-o-plano-diret
 or
END:VEVENT
BEGIN:VTIMEZONE
TZID:Brazil/East
X-LIC-LOCATION:Brazil/East
BEGIN:STANDARD
DTSTART;VALUE=DATE-TIME:20190216T230000
TZNAME:BRT
TZOFFSETFROM:-0200
TZOFFSETTO:-0300
END:STANDARD
END:VTIMEZONE
END:VCALENDAR
