BEGIN:VCALENDAR
VERSION:2.0
PRODID:-//Plone.org//NONSGML plone.app.event//EN
X-WR-TIMEZONE:Brazil/East
BEGIN:VEVENT
SUMMARY:REUNIÃO COM OS MEUS COLABORADORES.
DTSTART;TZID=Brazil/East;VALUE=DATE-TIME:20220420T080000
DTEND;TZID=Brazil/East;VALUE=DATE-TIME:20220420T120000
DTSTAMP;VALUE=DATE-TIME:20260424T082259Z
UID:62025af977064472840503c15eaa8835@www.goiania.go.leg.br
CONTACT:VEREADOR DR. GIAN
CREATED;VALUE=DATE-TIME:20220406T133346Z
LAST-MODIFIED;VALUE=DATE-TIME:20220406T133352Z
LOCATION:SALA DE REUNIÃO DA PRESIDÊNCIA
URL:https://www.goiania.go.leg.br/sala-de-imprensa/eventos/reuniao-com-os-
 meus-colaboradores
END:VEVENT
BEGIN:VTIMEZONE
TZID:Brazil/East
X-LIC-LOCATION:Brazil/East
BEGIN:STANDARD
DTSTART;VALUE=DATE-TIME:20220219T230000
TZNAME:BRT
TZOFFSETFROM:-0200
TZOFFSETTO:-0300
END:STANDARD
END:VTIMEZONE
END:VCALENDAR
