BEGIN:VCALENDAR
VERSION:2.0
PRODID:-//Plone.org//NONSGML plone.app.event//EN
X-WR-TIMEZONE:Brazil/East
BEGIN:VEVENT
SUMMARY:REUNIÃO  COM OS MEMBROS DA COMISSÃO DE SAÚDE.
DTSTART;TZID=Brazil/East;VALUE=DATE-TIME:20180510T080000
DTEND;TZID=Brazil/East;VALUE=DATE-TIME:20180510T120000
DTSTAMP;VALUE=DATE-TIME:20260425T134133Z
UID:bcc3d071177f42a9b1242d7ffc20510b@www.goiania.go.leg.br
CONTACT:VEREADOR DR. PAULO DAHER
CREATED;VALUE=DATE-TIME:20180510T101754Z
LAST-MODIFIED;VALUE=DATE-TIME:20180510T101809Z
LOCATION:SALA DE REUNIÃO DAS COMISSÕES
URL:https://www.goiania.go.leg.br/sala-de-imprensa/eventos/reuniao-com-os-
 membros-da-comissao-de-saude-3
END:VEVENT
BEGIN:VTIMEZONE
TZID:Brazil/East
X-LIC-LOCATION:Brazil/East
BEGIN:STANDARD
DTSTART;VALUE=DATE-TIME:20180217T230000
TZNAME:BRT
TZOFFSETFROM:-0200
TZOFFSETTO:-0300
END:STANDARD
END:VTIMEZONE
END:VCALENDAR
