BEGIN:VCALENDAR
VERSION:2.0
PRODID:-//Plone.org//NONSGML plone.app.event//EN
X-WR-TIMEZONE:Brazil/East
BEGIN:VEVENT
SUMMARY:REUNIÃO COM OS LOCUTORES E EMPRESÁRIOS DA RUA 44.
DTSTART;TZID=Brazil/East;VALUE=DATE-TIME:20160817T180000
DTEND;TZID=Brazil/East;VALUE=DATE-TIME:20160817T210000
DTSTAMP;VALUE=DATE-TIME:20260425T215548Z
UID:98a6becc549a4ba183b46ac09a6eb7c5@www.goiania.go.leg.br
CONTACT:VEREADOR MIZAIR LEMES JR.
CREATED;VALUE=DATE-TIME:20171208T111312Z
LAST-MODIFIED;VALUE=DATE-TIME:20171208T112924Z
LOCATION:SALA DE REUNIÕES DAS COMISSÕES
URL:https://www.goiania.go.leg.br/sala-de-imprensa/eventos/reuniao-com-os-
 locutores-e-empresarios-da-rua-44
END:VEVENT
BEGIN:VTIMEZONE
TZID:Brazil/East
X-LIC-LOCATION:Brazil/East
BEGIN:STANDARD
DTSTART;VALUE=DATE-TIME:20160220T230000
TZNAME:BRT
TZOFFSETFROM:-0200
TZOFFSETTO:-0300
END:STANDARD
END:VTIMEZONE
END:VCALENDAR
