BEGIN:VCALENDAR
VERSION:2.0
PRODID:-//Plone.org//NONSGML plone.app.event//EN
X-WR-TIMEZONE:Brazil/East
BEGIN:VEVENT
SUMMARY:REUNIÃO COM OS JARDINEIROS DO CEMITÉRIO JARDINS DAS PALMEIRAS.
DTSTART;TZID=Brazil/East;VALUE=DATE-TIME:20191023T080000
DTEND;TZID=Brazil/East;VALUE=DATE-TIME:20191023T120000
DTSTAMP;VALUE=DATE-TIME:20260421T184150Z
UID:c5b46469642b416db2ff39ad8cc641ee@www.goiania.go.leg.br
CONTACT:VEREADOR DENÍCIO TRINDADE
CREATED;VALUE=DATE-TIME:20191022T142535Z
LAST-MODIFIED;VALUE=DATE-TIME:20191022T142614Z
LOCATION:AUDITÓRIO CARLOS EURICO
URL:https://www.goiania.go.leg.br/sala-de-imprensa/eventos/reuniao-com-os-
 jardineiros-do-cemiterio-jardins-das-palmeiras
END:VEVENT
BEGIN:VTIMEZONE
TZID:Brazil/East
X-LIC-LOCATION:Brazil/East
BEGIN:DAYLIGHT
DTSTART;VALUE=DATE-TIME:20191020T010000
TZNAME:BRST
TZOFFSETFROM:-0300
TZOFFSETTO:-0200
END:DAYLIGHT
END:VTIMEZONE
END:VCALENDAR
