BEGIN:VCALENDAR
VERSION:2.0
PRODID:-//Plone.org//NONSGML plone.app.event//EN
X-WR-TIMEZONE:Brazil/East
BEGIN:VEVENT
SUMMARY:REUNIÃO COM OS FILIADOS DO PARTIDO SOCIAL LIBERAL - PSL.
DTSTART;TZID=Brazil/East;VALUE=DATE-TIME:20180505T140000
DTEND;TZID=Brazil/East;VALUE=DATE-TIME:20180505T180000
DTSTAMP;VALUE=DATE-TIME:20260425T175829Z
UID:3ffc14c081284bd393fe5050986f9004@www.goiania.go.leg.br
CONTACT:VEREADOR DELEGADO PRADO
CREATED;VALUE=DATE-TIME:20180417T133714Z
LAST-MODIFIED;VALUE=DATE-TIME:20180423T221103Z
LOCATION:AUDITÓRIO JAIME CÂMARA
URL:https://www.goiania.go.leg.br/sala-de-imprensa/eventos/reuniao-com-os-
 filiados-do-partido-social-liberal-psl
END:VEVENT
BEGIN:VTIMEZONE
TZID:Brazil/East
X-LIC-LOCATION:Brazil/East
BEGIN:STANDARD
DTSTART;VALUE=DATE-TIME:20180217T230000
TZNAME:BRT
TZOFFSETFROM:-0200
TZOFFSETTO:-0300
END:STANDARD
END:VTIMEZONE
END:VCALENDAR
