BEGIN:VCALENDAR
VERSION:2.0
PRODID:-//Plone.org//NONSGML plone.app.event//EN
X-WR-TIMEZONE:Brazil/East
BEGIN:VEVENT
SUMMARY:REUNIÃO COM OS DIRETORES DAS ESCOLAS 
DTSTART;TZID=Brazil/East;VALUE=DATE-TIME:20180807T170000
DTEND;TZID=Brazil/East;VALUE=DATE-TIME:20180807T220000
DTSTAMP;VALUE=DATE-TIME:20260425T105300Z
UID:539a6179fbeb4fcd81bf57f9dc580793@www.goiania.go.leg.br
CONTACT:VEREADOR GUSTAVO CRUVINEL 
CREATED;VALUE=DATE-TIME:20180803T152537Z
LAST-MODIFIED;VALUE=DATE-TIME:20180803T152544Z
LOCATION:AUDITÓRIO CARLOS EURICO
URL:https://www.goiania.go.leg.br/sala-de-imprensa/eventos/reuniao-com-os-
 diretores-das-escolas
END:VEVENT
BEGIN:VTIMEZONE
TZID:Brazil/East
X-LIC-LOCATION:Brazil/East
BEGIN:STANDARD
DTSTART;VALUE=DATE-TIME:20180217T230000
TZNAME:BRT
TZOFFSETFROM:-0200
TZOFFSETTO:-0300
END:STANDARD
END:VTIMEZONE
END:VCALENDAR
