BEGIN:VCALENDAR
VERSION:2.0
PRODID:-//Plone.org//NONSGML plone.app.event//EN
X-WR-TIMEZONE:Brazil/East
BEGIN:VEVENT
SUMMARY:REUNIÃO COM OS COORDENADORES DO PROJETO PASSAPORTE PARA A VITÓRI
 A.
DTSTART;TZID=Brazil/East;VALUE=DATE-TIME:20231016T110000
DTEND;TZID=Brazil/East;VALUE=DATE-TIME:20231016T180000
DTSTAMP;VALUE=DATE-TIME:20260425T082459Z
UID:65cf202e2c8a493ebc4b3a6093f1400f@www.goiania.go.leg.br
CONTACT:VEREADOR IGOR FRANCO
CREATED;VALUE=DATE-TIME:20231011T192932Z
LAST-MODIFIED;VALUE=DATE-TIME:20231011T193025Z
LOCATION:SALA DE REUNIÃO DAS COMISSÕES
URL:https://www.goiania.go.leg.br/sala-de-imprensa/eventos/reuniao-com-os-
 coordenadores-do-projeto-passaporte-para-a-vitoria
END:VEVENT
BEGIN:VTIMEZONE
TZID:Brazil/East
X-LIC-LOCATION:Brazil/East
BEGIN:DAYLIGHT
DTSTART;VALUE=DATE-TIME:20231015T010000
TZNAME:BRST
TZOFFSETFROM:-0300
TZOFFSETTO:-0200
END:DAYLIGHT
END:VTIMEZONE
END:VCALENDAR
