BEGIN:VCALENDAR
VERSION:2.0
PRODID:-//Plone.org//NONSGML plone.app.event//EN
X-WR-TIMEZONE:Brazil/East
BEGIN:VEVENT
SUMMARY:REUNIÃO COM OS ASSOCIADOS DO SINDICATO DOS ÁRBITRO DE FUTEBOL DO
  ESTADO DE GOIÁS.
DTSTART;TZID=Brazil/East;VALUE=DATE-TIME:20190808T200000
DTEND;TZID=Brazil/East;VALUE=DATE-TIME:20190808T220000
DTSTAMP;VALUE=DATE-TIME:20260422T092446Z
UID:a419a9310bca476caa95259c334fe026@www.goiania.go.leg.br
CONTACT:VEREADORA SABRINA GARCÊZ
CREATED;VALUE=DATE-TIME:20190807T140424Z
LAST-MODIFIED;VALUE=DATE-TIME:20190807T140437Z
LOCATION:AUDITÓRIO JAIME CÂMARA
URL:https://www.goiania.go.leg.br/sala-de-imprensa/eventos/reuniao-com-os-
 associados-do-sindicato-dos-arbitro-de-futebol-do-estado-de-goias
END:VEVENT
BEGIN:VTIMEZONE
TZID:Brazil/East
X-LIC-LOCATION:Brazil/East
BEGIN:STANDARD
DTSTART;VALUE=DATE-TIME:20190216T230000
TZNAME:BRT
TZOFFSETFROM:-0200
TZOFFSETTO:-0300
END:STANDARD
END:VTIMEZONE
END:VCALENDAR
