BEGIN:VCALENDAR
VERSION:2.0
PRODID:-//Plone.org//NONSGML plone.app.event//EN
X-WR-TIMEZONE:Brazil/East
BEGIN:VEVENT
SUMMARY:REUNIÃO COM OS ASSESSORES DO GABINETE 14.
DTSTART;TZID=Brazil/East;VALUE=DATE-TIME:20190612T170000
DTEND;TZID=Brazil/East;VALUE=DATE-TIME:20190612T210000
DTSTAMP;VALUE=DATE-TIME:20260424T082627Z
UID:3256f2e1af2f4b6cab166ed119c15fe6@www.goiania.go.leg.br
CONTACT:VEREADOR GUSTAVO CRUVINEL
CREATED;VALUE=DATE-TIME:20190611T151731Z
LAST-MODIFIED;VALUE=DATE-TIME:20190611T151743Z
LOCATION:AUDITÓRIO CARLOS EURICO
URL:https://www.goiania.go.leg.br/sala-de-imprensa/eventos/reuniao-com-os-
 assessores-do-gabinete-14-1
END:VEVENT
BEGIN:VTIMEZONE
TZID:Brazil/East
X-LIC-LOCATION:Brazil/East
BEGIN:STANDARD
DTSTART;VALUE=DATE-TIME:20190216T230000
TZNAME:BRT
TZOFFSETFROM:-0200
TZOFFSETTO:-0300
END:STANDARD
END:VTIMEZONE
END:VCALENDAR
