BEGIN:VCALENDAR
VERSION:2.0
PRODID:-//Plone.org//NONSGML plone.app.event//EN
X-WR-TIMEZONE:Brazil/East
BEGIN:VEVENT
SUMMARY:REUNIÃO COM ORGÃOS DA PREFEITURA E COMUNIDADE\, PARA DISCUTIR A 
 CONSTRUÇÃO DE CMEI - NOS LOTEAMENTOS AREIÃO I E II.
DTSTART;TZID=Brazil/East;VALUE=DATE-TIME:20171023T083000
DTEND;TZID=Brazil/East;VALUE=DATE-TIME:20171023T110000
DTSTAMP;VALUE=DATE-TIME:20260425T205009Z
UID:afd5c65c5ab7481ead89bc28987d2123@www.goiania.go.leg.br
CONTACT:VEREADOR PAULO MAGALHÃES
CREATED;VALUE=DATE-TIME:20171208T111313Z
LAST-MODIFIED;VALUE=DATE-TIME:20171208T112942Z
LOCATION:SALA DE REUNIÃO DA PRESIDÊNCIA
URL:https://www.goiania.go.leg.br/sala-de-imprensa/eventos/reuniao-com-org
 aos-da-prefeitura-e-comunidade-para-discutir-a-construcao-de-cmei-nos-lote
 amentos-areiao-i-e-ii
END:VEVENT
BEGIN:VTIMEZONE
TZID:Brazil/East
X-LIC-LOCATION:Brazil/East
BEGIN:DAYLIGHT
DTSTART;VALUE=DATE-TIME:20171015T010000
TZNAME:BRST
TZOFFSETFROM:-0300
TZOFFSETTO:-0200
END:DAYLIGHT
END:VTIMEZONE
END:VCALENDAR
