BEGIN:VCALENDAR
VERSION:2.0
PRODID:-//Plone.org//NONSGML plone.app.event//EN
X-WR-TIMEZONE:Brazil/East
BEGIN:VEVENT
SUMMARY:REUNIÃO COM O SINDICATO DOS ARBITROS DE FUTEBOL DO ESTADO DE GOI
 ÁS.
DTSTART;TZID=Brazil/East;VALUE=DATE-TIME:20160620T190000
DTEND;TZID=Brazil/East;VALUE=DATE-TIME:20160620T200000
DTSTAMP;VALUE=DATE-TIME:20260425T175829Z
UID:3630d35897c545b48af947e3b81d90f5@www.goiania.go.leg.br
CONTACT:VEREADOR CARLOS SOARES
CREATED;VALUE=DATE-TIME:20171208T111312Z
LAST-MODIFIED;VALUE=DATE-TIME:20171208T112922Z
LOCATION:SALA DE REUNIÕES DAS COMISSÕES
URL:https://www.goiania.go.leg.br/sala-de-imprensa/eventos/reuniao-com-o-s
 indicato-dos-arbitros-de-futebol-do-estado-de-goias
END:VEVENT
BEGIN:VTIMEZONE
TZID:Brazil/East
X-LIC-LOCATION:Brazil/East
BEGIN:STANDARD
DTSTART;VALUE=DATE-TIME:20160220T230000
TZNAME:BRT
TZOFFSETFROM:-0200
TZOFFSETTO:-0300
END:STANDARD
END:VTIMEZONE
END:VCALENDAR
