BEGIN:VCALENDAR
VERSION:2.0
PRODID:-//Plone.org//NONSGML plone.app.event//EN
X-WR-TIMEZONE:Brazil/East
BEGIN:VEVENT
SUMMARY:REUNIÃO COM O COORDENADOR MUNICIPAL DE DEFESA CIVIL \, SENHOR ROB
 LEDO MENDONÇA DE FARIA E O MINISTÉRIO DE CIDADE POR MEIO DA SSECRETARIA 
 NACIONAL DE PERIFERIA.
DTSTART;TZID=Brazil/East;VALUE=DATE-TIME:20241029T190000
DTEND;TZID=Brazil/East;VALUE=DATE-TIME:20241029T220000
DTSTAMP;VALUE=DATE-TIME:20260423T155433Z
UID:901f107ba45343c3937949fa21cebf3a@www.goiania.go.leg.br
CONTACT:PAULO CÉZAR FORNAZIER
CREATED;VALUE=DATE-TIME:20241002T113449Z
LAST-MODIFIED;VALUE=DATE-TIME:20241002T113501Z
LOCATION:AUDITÓRIO CARLOS EURICO
URL:https://www.goiania.go.leg.br/sala-de-imprensa/eventos/reuniao-com-o-c
 oordenador-municipal-de-defesa-civil-senhor-robledo-mendonca-de-faria-e-o-
 ministerio-de-cidade-por-meio-da-ssecretaria-nacional-de-periferia
END:VEVENT
BEGIN:VTIMEZONE
TZID:Brazil/East
X-LIC-LOCATION:Brazil/East
BEGIN:DAYLIGHT
DTSTART;VALUE=DATE-TIME:20241020T010000
TZNAME:BRST
TZOFFSETFROM:-0300
TZOFFSETTO:-0200
END:DAYLIGHT
END:VTIMEZONE
END:VCALENDAR
