BEGIN:VCALENDAR
VERSION:2.0
PRODID:-//Plone.org//NONSGML plone.app.event//EN
X-WR-TIMEZONE:Brazil/East
BEGIN:VEVENT
SUMMARY:REUNIÃO COM O CONSELHO MUNICIPAL DE DIREITOS HUMANOS DE GOIÂNIA.
DTSTART;TZID=Brazil/East;VALUE=DATE-TIME:20220615T090000
DTEND;TZID=Brazil/East;VALUE=DATE-TIME:20220615T120000
DTSTAMP;VALUE=DATE-TIME:20260419T202355Z
UID:6a6bcfdb4eaa435095dd66b8eeef4032@www.goiania.go.leg.br
CONTACT:VEREADOR MAURO RUBEM
CREATED;VALUE=DATE-TIME:20220526T215053Z
LAST-MODIFIED;VALUE=DATE-TIME:20220526T215101Z
LOCATION:AUDITÓRIO CARLOS EURICO
URL:https://www.goiania.go.leg.br/sala-de-imprensa/eventos/reuniao-com-o-c
 onselho-municipal-de-direitos-humanos-de-goiania
END:VEVENT
BEGIN:VTIMEZONE
TZID:Brazil/East
X-LIC-LOCATION:Brazil/East
BEGIN:STANDARD
DTSTART;VALUE=DATE-TIME:20220219T230000
TZNAME:BRT
TZOFFSETFROM:-0200
TZOFFSETTO:-0300
END:STANDARD
END:VTIMEZONE
END:VCALENDAR
