BEGIN:VCALENDAR
VERSION:2.0
PRODID:-//Plone.org//NONSGML plone.app.event//EN
X-WR-TIMEZONE:Brazil/East
BEGIN:VEVENT
SUMMARY:REUNIÃO COM O CONSELHO DO IMAS DE GOIÂNIA.
DTSTART;TZID=Brazil/East;VALUE=DATE-TIME:20211118T160000
DTEND;TZID=Brazil/East;VALUE=DATE-TIME:20211118T180000
DTSTAMP;VALUE=DATE-TIME:20260421T042719Z
UID:a9971993e1d441f699c557a686c04337@www.goiania.go.leg.br
CONTACT:VEREADOR MAURO RUBEM
CREATED;VALUE=DATE-TIME:20211117T121555Z
LAST-MODIFIED;VALUE=DATE-TIME:20211117T121602Z
LOCATION:SALA DE REUNIÃO DAS COMISSÕES
URL:https://www.goiania.go.leg.br/sala-de-imprensa/eventos/reuniao-com-o-c
 onselho-do-imas-de-goiania
END:VEVENT
BEGIN:VTIMEZONE
TZID:Brazil/East
X-LIC-LOCATION:Brazil/East
BEGIN:DAYLIGHT
DTSTART;VALUE=DATE-TIME:20211017T010000
TZNAME:BRST
TZOFFSETFROM:-0300
TZOFFSETTO:-0200
END:DAYLIGHT
END:VTIMEZONE
END:VCALENDAR
