BEGIN:VCALENDAR
VERSION:2.0
PRODID:-//Plone.org//NONSGML plone.app.event//EN
X-WR-TIMEZONE:Brazil/East
BEGIN:VEVENT
SUMMARY:REUNIÃO COM LAVADORES AUTÔNOMOS DE VEÍCULOS AUTOMOTORES.
DTSTART;TZID=Brazil/East;VALUE=DATE-TIME:20190424T183000
DTEND;TZID=Brazil/East;VALUE=DATE-TIME:20190424T203000
DTSTAMP;VALUE=DATE-TIME:20260424T135727Z
UID:2341c44479e940c18fe93350eb5b2bcd@www.goiania.go.leg.br
CONTACT:VEREADOR PAULO MAGALHÃES
CREATED;VALUE=DATE-TIME:20190417T134451Z
LAST-MODIFIED;VALUE=DATE-TIME:20190417T134506Z
LOCATION:AUDITÓRIO CARLOS EURICO
URL:https://www.goiania.go.leg.br/sala-de-imprensa/eventos/reuniao-com-lav
 adores-autonomos-de-veiculos-automotores
END:VEVENT
BEGIN:VTIMEZONE
TZID:Brazil/East
X-LIC-LOCATION:Brazil/East
BEGIN:STANDARD
DTSTART;VALUE=DATE-TIME:20190216T230000
TZNAME:BRT
TZOFFSETFROM:-0200
TZOFFSETTO:-0300
END:STANDARD
END:VTIMEZONE
END:VCALENDAR
