BEGIN:VCALENDAR
VERSION:2.0
PRODID:-//Plone.org//NONSGML plone.app.event//EN
X-WR-TIMEZONE:Brazil/East
BEGIN:VEVENT
SUMMARY:REUNIÃO COM GRUPO DE BOMBEIRO CIVIL DO ESTADO DE GOIÁS.
DTSTART;TZID=Brazil/East;VALUE=DATE-TIME:20221214T180000
DTEND;TZID=Brazil/East;VALUE=DATE-TIME:20221214T220000
DTSTAMP;VALUE=DATE-TIME:20260420T172828Z
UID:c3ad3b0da429432ea3036de996e7a86b@www.goiania.go.leg.br
CONTACT:VEREADOR KLEYBE MORAIS
CREATED;VALUE=DATE-TIME:20221116T105844Z
LAST-MODIFIED;VALUE=DATE-TIME:20221116T105858Z
LOCATION:AUDITÓRIO CARLOS EURICO
URL:https://www.goiania.go.leg.br/sala-de-imprensa/eventos/reuniao-com-gru
 po-de-bombeiro-civil-do-estado-de-goias
END:VEVENT
BEGIN:VTIMEZONE
TZID:Brazil/East
X-LIC-LOCATION:Brazil/East
BEGIN:DAYLIGHT
DTSTART;VALUE=DATE-TIME:20221016T010000
TZNAME:BRST
TZOFFSETFROM:-0300
TZOFFSETTO:-0200
END:DAYLIGHT
END:VTIMEZONE
END:VCALENDAR
