BEGIN:VCALENDAR
VERSION:2.0
PRODID:-//Plone.org//NONSGML plone.app.event//EN
X-WR-TIMEZONE:Brazil/East
BEGIN:VEVENT
SUMMARY:REUNIÃO COM EQUIPE E LIDERANÇAS RELIGIOSAS 
DTSTART;TZID=Brazil/East;VALUE=DATE-TIME:20191121T190000
DTEND;TZID=Brazil/East;VALUE=DATE-TIME:20191121T220000
DTSTAMP;VALUE=DATE-TIME:20260421T210244Z
UID:71ada6993b004a30a4623ac89994ba30@www.goiania.go.leg.br
CONTACT:VEREADOR DIVINO RODRIGUES 
CREATED;VALUE=DATE-TIME:20191014T152338Z
LAST-MODIFIED;VALUE=DATE-TIME:20191014T152359Z
LOCATION:AUDITÓRIO JAIME CÂMARA
URL:https://www.goiania.go.leg.br/sala-de-imprensa/eventos/reuniao-com-equ
 ipe-e-liderancas-religiosas
END:VEVENT
BEGIN:VTIMEZONE
TZID:Brazil/East
X-LIC-LOCATION:Brazil/East
BEGIN:DAYLIGHT
DTSTART;VALUE=DATE-TIME:20191020T010000
TZNAME:BRST
TZOFFSETFROM:-0300
TZOFFSETTO:-0200
END:DAYLIGHT
END:VTIMEZONE
END:VCALENDAR
