BEGIN:VCALENDAR
VERSION:2.0
PRODID:-//Plone.org//NONSGML plone.app.event//EN
X-WR-TIMEZONE:Brazil/East
BEGIN:VEVENT
SUMMARY:REUNIÃO COM EQUIPE DO GT DO PLANO DIRETOR.
DTSTART;TZID=Brazil/East;VALUE=DATE-TIME:20220128T090000
DTEND;TZID=Brazil/East;VALUE=DATE-TIME:20220128T120000
DTSTAMP;VALUE=DATE-TIME:20260420T201721Z
UID:238fa6cadfd7467393073fcc161ea80d@www.goiania.go.leg.br
CONTACT:VEREADORA AAVA SANTIAGO
CREATED;VALUE=DATE-TIME:20220118T145839Z
LAST-MODIFIED;VALUE=DATE-TIME:20220118T145845Z
LOCATION:SALA DE REUNIÃO DAS COMISSÕES
URL:https://www.goiania.go.leg.br/sala-de-imprensa/eventos/reuniao-com-equ
 ipe-do-gt-do-plano-diretor
END:VEVENT
BEGIN:VTIMEZONE
TZID:Brazil/East
X-LIC-LOCATION:Brazil/East
BEGIN:DAYLIGHT
DTSTART;VALUE=DATE-TIME:20211017T010000
TZNAME:BRST
TZOFFSETFROM:-0300
TZOFFSETTO:-0200
END:DAYLIGHT
END:VTIMEZONE
END:VCALENDAR
