BEGIN:VCALENDAR
VERSION:2.0
PRODID:-//Plone.org//NONSGML plone.app.event//EN
X-WR-TIMEZONE:Brazil/East
BEGIN:VEVENT
SUMMARY:REUNIÃO COM EQUIPE DO GABINETE.
DTSTART;TZID=Brazil/East;VALUE=DATE-TIME:20220324T100000
DTEND;TZID=Brazil/East;VALUE=DATE-TIME:20220324T120000
DTSTAMP;VALUE=DATE-TIME:20260423T072844Z
UID:3c8ee07b43084ca2a51c43eb516a4228@www.goiania.go.leg.br
CONTACT:VEREADOR THIALU GUIOTTI
CREATED;VALUE=DATE-TIME:20220323T195241Z
LAST-MODIFIED;VALUE=DATE-TIME:20220323T195251Z
LOCATION:SALA DE REUNIÃO DA PRESIDÊNCIA
URL:https://www.goiania.go.leg.br/sala-de-imprensa/eventos/reuniao-com-equ
 ipe-do-gabinete-1
END:VEVENT
BEGIN:VTIMEZONE
TZID:Brazil/East
X-LIC-LOCATION:Brazil/East
BEGIN:STANDARD
DTSTART;VALUE=DATE-TIME:20220219T230000
TZNAME:BRT
TZOFFSETFROM:-0200
TZOFFSETTO:-0300
END:STANDARD
END:VTIMEZONE
END:VCALENDAR
