BEGIN:VCALENDAR
VERSION:2.0
PRODID:-//Plone.org//NONSGML plone.app.event//EN
X-WR-TIMEZONE:Brazil/East
BEGIN:VEVENT
SUMMARY:REUNIÃO COM ENTIDADES CLASSISTAS ONDE SERÁ DISCUTIDO PROJETO DE 
 LEI.
DTSTART;TZID=Brazil/East;VALUE=DATE-TIME:20180529T193000
DTEND;TZID=Brazil/East;VALUE=DATE-TIME:20180529T220000
DTSTAMP;VALUE=DATE-TIME:20260425T134145Z
UID:c1d17593ea784eaf85e3d31f4c3c48dd@www.goiania.go.leg.br
CONTACT:VEREADOR DELEGADO EDUARDO PRADO
CREATED;VALUE=DATE-TIME:20180529T125932Z
LAST-MODIFIED;VALUE=DATE-TIME:20180529T125948Z
LOCATION:AUDITÓRIO CARLOS EURICO
URL:https://www.goiania.go.leg.br/sala-de-imprensa/eventos/reuniao-com-ent
 idades-classistas-onde-sera-discutido-projeto-de-lei
END:VEVENT
BEGIN:VTIMEZONE
TZID:Brazil/East
X-LIC-LOCATION:Brazil/East
BEGIN:STANDARD
DTSTART;VALUE=DATE-TIME:20180217T230000
TZNAME:BRT
TZOFFSETFROM:-0200
TZOFFSETTO:-0300
END:STANDARD
END:VTIMEZONE
END:VCALENDAR
