BEGIN:VCALENDAR
VERSION:2.0
PRODID:-//Plone.org//NONSGML plone.app.event//EN
X-WR-TIMEZONE:Brazil/East
BEGIN:VEVENT
SUMMARY:REUNIÃO COM ASSESSORIA DO VEREADOR CARLIN CAFÉ.
DTSTART;TZID=Brazil/East;VALUE=DATE-TIME:20170120T080000
DTEND;TZID=Brazil/East;VALUE=DATE-TIME:20170120T120000
DTSTAMP;VALUE=DATE-TIME:20260425T134138Z
UID:07a05a9e09544cb2b2e4b7b17bd07792@www.goiania.go.leg.br
CONTACT:VEREADOR CARLIN CAFÉ
CREATED;VALUE=DATE-TIME:20171208T111312Z
LAST-MODIFIED;VALUE=DATE-TIME:20171208T112927Z
LOCATION:SALA DE REUNIÕES DAS COMISSÕES
URL:https://www.goiania.go.leg.br/sala-de-imprensa/eventos/reuniao-com-ass
 essoria-do-vereador-carlin-cafe
END:VEVENT
BEGIN:VTIMEZONE
TZID:Brazil/East
X-LIC-LOCATION:Brazil/East
BEGIN:DAYLIGHT
DTSTART;VALUE=DATE-TIME:20161016T010000
TZNAME:BRST
TZOFFSETFROM:-0300
TZOFFSETTO:-0200
END:DAYLIGHT
END:VTIMEZONE
END:VCALENDAR
