BEGIN:VCALENDAR
VERSION:2.0
PRODID:-//Plone.org//NONSGML plone.app.event//EN
X-WR-TIMEZONE:Brazil/East
BEGIN:VEVENT
SUMMARY:REUNIÃO COM ASSESSORIA DO VEREADOR ANDERSON SALES - BOKÃO.
DTSTART;TZID=Brazil/East;VALUE=DATE-TIME:20191122T150000
DTEND;TZID=Brazil/East;VALUE=DATE-TIME:20191122T180000
DTSTAMP;VALUE=DATE-TIME:20260421T155112Z
UID:7a815c4da8cc467e894acb9908d8a1aa@www.goiania.go.leg.br
CONTACT:VEREADOR ANDERSON SALES - BOKÃO
CREATED;VALUE=DATE-TIME:20191118T123319Z
LAST-MODIFIED;VALUE=DATE-TIME:20191118T123325Z
LOCATION:AUDITÓRIO JAIME CÂMARA
URL:https://www.goiania.go.leg.br/sala-de-imprensa/eventos/reuniao-com-ass
 essoria-do-vereador-anderson-sales-bokao-4
END:VEVENT
BEGIN:VTIMEZONE
TZID:Brazil/East
X-LIC-LOCATION:Brazil/East
BEGIN:DAYLIGHT
DTSTART;VALUE=DATE-TIME:20191020T010000
TZNAME:BRST
TZOFFSETFROM:-0300
TZOFFSETTO:-0200
END:DAYLIGHT
END:VTIMEZONE
END:VCALENDAR
