BEGIN:VCALENDAR
VERSION:2.0
PRODID:-//Plone.org//NONSGML plone.app.event//EN
X-WR-TIMEZONE:Brazil/East
BEGIN:VEVENT
SUMMARY:REUNIÃO COM A OAB GOIÁS.
DTSTART;TZID=Brazil/East;VALUE=DATE-TIME:20220620T190000
DTEND;TZID=Brazil/East;VALUE=DATE-TIME:20220620T210000
DTSTAMP;VALUE=DATE-TIME:20260421T045446Z
UID:4cebea5977a3427e938ac42fa7143847@www.goiania.go.leg.br
CONTACT:VEREADORA AAVA SANTIAGO
CREATED;VALUE=DATE-TIME:20220615T151629Z
LAST-MODIFIED;VALUE=DATE-TIME:20220615T151734Z
LOCATION:AUDITÓRIO CARLOS EURICO
URL:https://www.goiania.go.leg.br/sala-de-imprensa/eventos/reuniao-com-a-o
 ab-goias
END:VEVENT
BEGIN:VTIMEZONE
TZID:Brazil/East
X-LIC-LOCATION:Brazil/East
BEGIN:STANDARD
DTSTART;VALUE=DATE-TIME:20220219T230000
TZNAME:BRT
TZOFFSETFROM:-0200
TZOFFSETTO:-0300
END:STANDARD
END:VTIMEZONE
END:VCALENDAR
