BEGIN:VCALENDAR
VERSION:2.0
PRODID:-//Plone.org//NONSGML plone.app.event//EN
X-WR-TIMEZONE:Brazil/East
BEGIN:VEVENT
SUMMARY:REUNIÃO COM A FEDERAÇÃO BRASIL DA ESPERANÇA.
DTSTART;TZID=Brazil/East;VALUE=DATE-TIME:20250310T090000
DTEND;TZID=Brazil/East;VALUE=DATE-TIME:20250310T123000
DTSTAMP;VALUE=DATE-TIME:20260420T050227Z
UID:2e6b06112fc54bcd9a7f6ea606415b01@www.goiania.go.leg.br
CONTACT:VEREADOR PROFESSOR EDWARD
CREATED;VALUE=DATE-TIME:20250310T120540Z
LAST-MODIFIED;VALUE=DATE-TIME:20250310T122150Z
LOCATION:AUDITÓRIO CARLOS EURICO
URL:https://www.goiania.go.leg.br/sala-de-imprensa/eventos/reuniao-com-a-f
 ederacao-brasil-da-esperanca
END:VEVENT
BEGIN:VTIMEZONE
TZID:Brazil/East
X-LIC-LOCATION:Brazil/East
BEGIN:STANDARD
DTSTART;VALUE=DATE-TIME:20250215T230000
TZNAME:BRT
TZOFFSETFROM:-0200
TZOFFSETTO:-0300
END:STANDARD
END:VTIMEZONE
END:VCALENDAR
