BEGIN:VCALENDAR
VERSION:2.0
PRODID:-//Plone.org//NONSGML plone.app.event//EN
X-WR-TIMEZONE:Brazil/East
BEGIN:VEVENT
SUMMARY:REUNIÃO COM A EQUIPE.
DTSTART;TZID=Brazil/East;VALUE=DATE-TIME:20180203T080000
DTEND;TZID=Brazil/East;VALUE=DATE-TIME:20180203T180000
DTSTAMP;VALUE=DATE-TIME:20260425T123612Z
UID:7b61b931cf7d47e2b3e47d441aa6a659@www.goiania.go.leg.br
CONTACT:VEREADOR MILTON MERCEZ
CREATED;VALUE=DATE-TIME:20180201T093330Z
LAST-MODIFIED;VALUE=DATE-TIME:20180201T093351Z
LOCATION:AUDITÓRIO CARLOS EURICO
URL:https://www.goiania.go.leg.br/sala-de-imprensa/eventos/reuniao-com-a-e
 quipe
END:VEVENT
BEGIN:VTIMEZONE
TZID:Brazil/East
X-LIC-LOCATION:Brazil/East
BEGIN:DAYLIGHT
DTSTART;VALUE=DATE-TIME:20171015T010000
TZNAME:BRST
TZOFFSETFROM:-0300
TZOFFSETTO:-0200
END:DAYLIGHT
END:VTIMEZONE
END:VCALENDAR
